BEGIN:VCALENDAR
VERSION:2.0
PRODID:-//Zukunftsdorf Waldhof - ECPv6.15.20//NONSGML v1.0//EN
CALSCALE:GREGORIAN
METHOD:PUBLISH
X-ORIGINAL-URL:https://zukunftsdorf-waldhof.de
X-WR-CALDESC:Veranstaltungen für Zukunftsdorf Waldhof
REFRESH-INTERVAL;VALUE=DURATION:PT1H
X-Robots-Tag:noindex
X-PUBLISHED-TTL:PT1H
BEGIN:VTIMEZONE
TZID:Europe/Berlin
BEGIN:DAYLIGHT
TZOFFSETFROM:+0100
TZOFFSETTO:+0200
TZNAME:CEST
DTSTART:20240331T010000
END:DAYLIGHT
BEGIN:STANDARD
TZOFFSETFROM:+0200
TZOFFSETTO:+0100
TZNAME:CET
DTSTART:20241027T010000
END:STANDARD
BEGIN:DAYLIGHT
TZOFFSETFROM:+0100
TZOFFSETTO:+0200
TZNAME:CEST
DTSTART:20250330T010000
END:DAYLIGHT
BEGIN:STANDARD
TZOFFSETFROM:+0200
TZOFFSETTO:+0100
TZNAME:CET
DTSTART:20251026T010000
END:STANDARD
BEGIN:DAYLIGHT
TZOFFSETFROM:+0100
TZOFFSETTO:+0200
TZNAME:CEST
DTSTART:20260329T010000
END:DAYLIGHT
BEGIN:STANDARD
TZOFFSETFROM:+0200
TZOFFSETTO:+0100
TZNAME:CET
DTSTART:20261025T010000
END:STANDARD
END:VTIMEZONE
BEGIN:VEVENT
DTSTART;TZID=Europe/Berlin:20251212T180000
DTEND;TZID=Europe/Berlin:20251212T190000
DTSTAMP:20260421T000403
CREATED:20251124T173307Z
LAST-MODIFIED:20251124T173307Z
UID:10000651-1765562400-1765566000@zukunftsdorf-waldhof.de
SUMMARY:Yoga am Abend
DESCRIPTION:Du hast Lust auf achtsame Bewegung\, Meditation und Entspannung und möchtest abends gut zur Ruhe kommen? \nDann ist Yoga am Abend vielleicht genau das richtige für dich! \nWas dich in dieser Stunde erwartet: \n\nachtsame Bewegung\nVerbindung von Atem und Bewegung\nMeditation\nEntspannung\n\n \nWir fließen in einer Stunde durch verschiedene Yogaübungen und bringen die Aufmerksamkeit auf den eigenen Atem. Den Abschluss bildet eine Schlussentspannung und eine angeleitete Meditation. \nSo kannst du die Eindrücke des Tages oder der Woche hinter dir lassen und bewusst in den Moment zurückfinden. Mit einem Gefühl der Entspannung und einer Leichtigkeit im Körper gehst du anschließend in deinen restlichen Abend. \nFür die Stunde benötigst du nur bequeme Kleidung\, in der du dich frei bewegen kannst. Matten und alles Weitere gibt es vor Ort. \n— Bitte achte auf dich selbst und deinen Körper und teile mir mögliche Einschränkungen vor der Stunde mit. — \nIch freue mich auf deine Anmeldung! \nHerzliche Grüße\, \nElsa
URL:https://zukunftsdorf-waldhof.de/veranstaltung/yoga-am-abend-2/2025-12-12/
LOCATION:Waldhof 12\, Heilig Haus\, Festsaal\, Waldhof 12
CATEGORIES:Achtsamkeit,Bewegung,Meditation,Yoga
ORGANIZER;CN="Elsa Windmann-Gerhard":MAILTO:elsa.gerhard@posteo.de
END:VEVENT
BEGIN:VEVENT
DTSTART;TZID=Europe/Berlin:20251230T183000
DTEND;TZID=Europe/Berlin:20251230T210000
DTSTAMP:20260421T000403
CREATED:20251216T151513Z
LAST-MODIFIED:20251220T195013Z
UID:10000665-1767119400-1767128400@zukunftsdorf-waldhof.de
SUMMARY:Sitzen in der Stille Jahresausklang
DESCRIPTION:Der „Jahresausklang Special“ –  wir nehmen uns etwas mehr Zeit und für alle die mögen\, anschließend ein gemütliches Beisammensein mit einer Tasse Tee. \nAb dem 6.1.2026 dann wieder wie üblich jede zweite Woche von 19:00 bis 20:30. \nBeim Sitzen in der Stille können wir vertiefte Einsichten\, innere Balance oder klares Tagesbewusstsein üben. Die meisten medizinischen sowie spirituellen Traditionen verweisen auf solche Praktiken. MBSR\, Kontemplation\, Zen\, Vipassana\, sind Formen und Begriffe dafür. \nDie Abende sind für Anfänger und Fortgeschrittene geeignet und für alle Interessierten geeignet. Wir arbeiten mit kurzen Impulsen und beginnen mit einer Körperübung\, die erfrischt und unsere Präsenz steigert. Anschließend zweimaliges Sitzen von ja 25 Minuten mit langsamen Gehen (Kinhin). \nWir bitten um einen Beitrag von 5€ für die Raumnutzung.
URL:https://zukunftsdorf-waldhof.de/veranstaltung/sitzen-in-der-stille-2/
LOCATION:Waldhof 12 (Heilig Haus) Meditationsraum\, Waldhof 12\, Greifenstein\, 35753\, Germany
CATEGORIES:Achtsamkeit,Gesundheit,Lebenskunst,Meditation,Persönlichkeitsentwicklung
END:VEVENT
END:VCALENDAR