BEGIN:VCALENDAR
VERSION:2.0
PRODID:-//Zukunftsdorf Waldhof - ECPv6.15.20//NONSGML v1.0//EN
CALSCALE:GREGORIAN
METHOD:PUBLISH
X-ORIGINAL-URL:https://zukunftsdorf-waldhof.de
X-WR-CALDESC:Veranstaltungen für Zukunftsdorf Waldhof
REFRESH-INTERVAL;VALUE=DURATION:PT1H
X-Robots-Tag:noindex
X-PUBLISHED-TTL:PT1H
BEGIN:VTIMEZONE
TZID:Europe/Berlin
BEGIN:DAYLIGHT
TZOFFSETFROM:+0100
TZOFFSETTO:+0200
TZNAME:CEST
DTSTART:20250330T010000
END:DAYLIGHT
BEGIN:STANDARD
TZOFFSETFROM:+0200
TZOFFSETTO:+0100
TZNAME:CET
DTSTART:20251026T010000
END:STANDARD
BEGIN:DAYLIGHT
TZOFFSETFROM:+0100
TZOFFSETTO:+0200
TZNAME:CEST
DTSTART:20260329T010000
END:DAYLIGHT
BEGIN:STANDARD
TZOFFSETFROM:+0200
TZOFFSETTO:+0100
TZNAME:CET
DTSTART:20261025T010000
END:STANDARD
BEGIN:DAYLIGHT
TZOFFSETFROM:+0100
TZOFFSETTO:+0200
TZNAME:CEST
DTSTART:20270328T010000
END:DAYLIGHT
BEGIN:STANDARD
TZOFFSETFROM:+0200
TZOFFSETTO:+0100
TZNAME:CET
DTSTART:20271031T010000
END:STANDARD
END:VTIMEZONE
BEGIN:VEVENT
DTSTART;TZID=Europe/Berlin:20260121T190000
DTEND;TZID=Europe/Berlin:20260121T200000
DTSTAMP:20260422T045427
CREATED:20260121T105429Z
LAST-MODIFIED:20260121T105741Z
UID:10000743-1769022000-1769025600@zukunftsdorf-waldhof.de
SUMMARY:Schreibsalon am Waldhof
DESCRIPTION:Der Schreibsalon am Waldhof findet weiterhin statt\, immer Mittwochs 1x im Monat\, \nnächste Termine: \nMittwochs \n21.01. ab 19:00 Uhr \n18.02. ab 18.30 Uhr \n18.03. ab 10.30 Uhr \n22.04. ab 19:00 uhr \n06.05. ab 10.30 Ende offen \n– ohne Eintritt\, gerne Spende – \n ohne Anmeldung
URL:https://zukunftsdorf-waldhof.de/veranstaltung/schreibsalon-am-waldhof/
LOCATION:Waldhof 8\, Haus am Garten\, Waldhof\, Greifenstein\, Hessen\, 35753\, Germany
CATEGORIES:Begegnung,Gemeinschaft,Kreativität,Kunst und Kultur,Lebenskunst
END:VEVENT
END:VCALENDAR